BEGIN:VCALENDAR
VERSION:2.0
PRODID:-//Shotokan Karate Klubb Botkyrka - ECPv6.15.20//NONSGML v1.0//EN
CALSCALE:GREGORIAN
METHOD:PUBLISH
X-WR-CALNAME:Shotokan Karate Klubb Botkyrka
X-ORIGINAL-URL:https://karatebotkyrka.se
X-WR-CALDESC:Händelser för Shotokan Karate Klubb Botkyrka
REFRESH-INTERVAL;VALUE=DURATION:PT1H
X-Robots-Tag:noindex
X-PUBLISHED-TTL:PT1H
BEGIN:VTIMEZONE
TZID:Europe/Stockholm
BEGIN:DAYLIGHT
TZOFFSETFROM:+0100
TZOFFSETTO:+0200
TZNAME:CEST
DTSTART:20240331T010000
END:DAYLIGHT
BEGIN:STANDARD
TZOFFSETFROM:+0200
TZOFFSETTO:+0100
TZNAME:CET
DTSTART:20241027T010000
END:STANDARD
BEGIN:DAYLIGHT
TZOFFSETFROM:+0100
TZOFFSETTO:+0200
TZNAME:CEST
DTSTART:20250330T010000
END:DAYLIGHT
BEGIN:STANDARD
TZOFFSETFROM:+0200
TZOFFSETTO:+0100
TZNAME:CET
DTSTART:20251026T010000
END:STANDARD
BEGIN:DAYLIGHT
TZOFFSETFROM:+0100
TZOFFSETTO:+0200
TZNAME:CEST
DTSTART:20260329T010000
END:DAYLIGHT
BEGIN:STANDARD
TZOFFSETFROM:+0200
TZOFFSETTO:+0100
TZNAME:CET
DTSTART:20261025T010000
END:STANDARD
END:VTIMEZONE
BEGIN:VEVENT
DTSTART;TZID=Europe/Stockholm:20250426T100000
DTEND;TZID=Europe/Stockholm:20250426T170000
DTSTAMP:20260421T154548
CREATED:20250403T181907Z
LAST-MODIFIED:20250425T161025Z
UID:7746-1745661600-1745686800@karatebotkyrka.se
SUMMARY:Elit Karate Cup 2025
DESCRIPTION:Invägning för U14 (12-13år) Kl: 10-12.30 \nRegler: WKFs regler samt Svenska karateförbundets tillägg för barn & coachregler. \nSvenska Karateförbundet sponsrar och betalar anmälningsavgiften för alla deltagare som är medlemmar i förbundet. \nSista anmälningsdag för våra medlemmar: 21 april 2025 \nMejla till info@karatebotkyrka.se. \nKategorier\nKata flickor: 7\, 8\, 9\, 10\, 11\, U14 (12-13 år)\nKata pojkar: 7\, 8\, 9\, 10\, 11\, U14 (12-13 år)\nKumite flickor: 7\, 8\, 9\, 10\, 11\, U14 (12-13 år)\n(klasserna delas in i korta & långa)\nU14: -42kg\, -47kg\, -52kg\, +52kg\nKumite pojkar: 7\, 8\, 9\, 10\, 11\, U14 (12-13 år)\nU14: -40kg\, 45kg\, -50kg\, -55kg\, +55kg\nLag kata flickor: 7-11år & U14 (12-13 år)\nLag kata pojkar: 7-11år & U14 (12-13 år)\nLag kata Mix: 7-11år & U14 (12-13 år)\nLag kumite flickor: U14 (12-13 år)\nLag kumite pojkar: U14 (12-13 år)
URL:https://karatebotkyrka.se/event/elit-karate-cup-2025/
LOCATION:Hersbyhallen\, Läroverksvägen 17\, Lidingö\, 181 42
CATEGORIES:Tävling
ATTACH;FMTTYPE=image/jpeg:https://karatebotkyrka.se/wp-content/uploads/2025/04/Elit_Karate_Cup_2025_event_Shotokan_Klubb_Botkyrka.jpg
END:VEVENT
END:VCALENDAR